BEGIN:VCALENDAR
VERSION:2.0
PRODID:SchoolNow
CALSCALE:GREGORIAN
BEGIN:VEVENT
UID:65554080-3b39-11f0-af10-0a58a9feac02
DTSTAMP:20250527T203014Z
SUMMARY:PN Interest Meeting: LDCC West Monroe
URL;VALUE=URI:https://www.ladelta.edu/campuses/west-monroe/calendar/8209782
 /pn-interest-meeting-ldcc-west-monroe
DTSTART:20250604T230000Z
DTEND:20250605T000000Z
END:VEVENT
END:VCALENDAR
