BEGIN:VCALENDAR
VERSION:2.0
PRODID:SchoolNow
CALSCALE:GREGORIAN
BEGIN:VEVENT
UID:06fd00c0-f127-11ee-abba-025ee24b5243
DTSTAMP:20240402T192721Z
SUMMARY:Rock Enroll at LDCC Winnsboro
URL;VALUE=URI:https://www.ladelta.edu/campuses/winnsboro/calendar/5692101/r
 ock-enroll-at-ldcc-winnsboro
DTSTART:20240409T170000Z
DTEND:20240409T230000Z
END:VEVENT
END:VCALENDAR
