BEGIN:VCALENDAR
VERSION:2.0
PRODID:SchoolNow
CALSCALE:GREGORIAN
BEGIN:VEVENT
UID:deae5cfc-f2a9-11ee-af18-0ef927366aed
DTSTAMP:20240404T173629Z
SUMMARY:FAFSA Rally Night at LDCC Winnsboro
URL;VALUE=URI:https://www.ladelta.edu/campuses/winnsboro/calendar/5708050/f
 afsa-rally-night-at-ldcc-winnsboro
DTSTART:20240409T210000Z
DTEND:20240409T230000Z
END:VEVENT
END:VCALENDAR
