BEGIN:VCALENDAR
VERSION:2.0
PRODID:SchoolNow
CALSCALE:GREGORIAN
BEGIN:VEVENT
UID:efdbc140-081e-11f1-a298-0affe7921747
DTSTAMP:20260212T142719Z
SUMMARY:LDCC Winnsboro Black History Month Program
URL;VALUE=URI:https://www.ladelta.edu/campuses/winnsboro/calendar/8854178/l
 dcc-winnsboro-black-history-month-program
DTSTART:20260226T173000Z
DTEND:20260226T183000Z
END:VEVENT
END:VCALENDAR
