BEGIN:VCALENDAR
VERSION:2.0
PRODID:SchoolNow
CALSCALE:GREGORIAN
BEGIN:VEVENT
UID:7808097c-132b-11f1-bda9-0a58a9feac02
DTSTAMP:20260226T155444Z
SUMMARY:LDCC Winnsboro Delta Christian Fellowship Easter Egg Hunt
URL;VALUE=URI:https://www.ladelta.edu/campuses/winnsboro/calendar/8873488/l
 dcc-winnsboro-delta-christian-fellowship-easter-egg-hunt
DTSTART:20260325T183000Z
DTEND:20260325T213000Z
END:VEVENT
END:VCALENDAR
