BEGIN:VCALENDAR
VERSION:2.0
PRODID:SchoolNow
CALSCALE:GREGORIAN
BEGIN:VEVENT
UID:300276a6-17e7-11f1-bdd0-0a58a9feac02
DTSTAMP:20260304T162833Z
SUMMARY:Get Into the Guts of Healthcare: LDCC Winnsboro 7th & 8th Grade Cla
 ss Visits
URL;VALUE=URI:https://www.ladelta.edu/campuses/winnsboro/calendar/8890294/g
 et-into-the-guts-of-healthcare-ldcc-winnsboro-7th-8th-grade-class-visits
DTSTART:20260309T130000Z
DTEND:20260309T170000Z
END:VEVENT
END:VCALENDAR
